BEGIN:VCALENDAR
VERSION:2.0
PRODID:icalendar-ruby
CALSCALE:GREGORIAN
BEGIN:VEVENT
DTSTAMP:20210119T155814Z
UID:a237e474-a920-4de6-afdf-b8e0805491cb
DTSTART;VALUE=DATE:20191112
DESCRIPTION:Property ID# 465264\, Time: 5:00PM
SUMMARY:Auction for 
END:VEVENT
END:VCALENDAR
