BEGIN:VCALENDAR
VERSION:2.0
PRODID:icalendar-ruby
CALSCALE:GREGORIAN
BEGIN:VEVENT
DTSTAMP:20210119T155812Z
UID:986b3ad5-5640-47c8-ab2f-9b3044795059
DTSTART;VALUE=DATE:20200623
DESCRIPTION:Property ID# 481915\, Time: 12:00PM
SUMMARY:Auction for 
END:VEVENT
END:VCALENDAR
