BEGIN:VCALENDAR
VERSION:2.0
PRODID:icalendar-ruby
CALSCALE:GREGORIAN
BEGIN:VEVENT
DTSTAMP:20210119T155811Z
UID:26074ab4-c2e2-428f-b412-e8b6a582ebf4
DTSTART;VALUE=DATE:20200926
DESCRIPTION:Property ID# 488403\, Time: 11:00AM
SUMMARY:Auction for 
END:VEVENT
END:VCALENDAR
